BEGIN:VCALENDAR
VERSION:2.0
PRODID:https://www.kufer.de/kuferweb / DE
METHOD:PUBLISH
CALSCALE:GREGORIAN
X-WR-TIMEZONE:Europe/Berlin
BEGIN:VTIMEZONE
TZID:Europe/Berlin
X-LIC-LOCATION:Europe/Berlin
BEGIN:DAYLIGHT
TZOFFSETFROM:+0100
TZOFFSETTO:+0200
TZNAME:CEST
DTSTART:19700329T020000
RRULE:FREQ=YEARLY;INTERVAL=1;BYDAY=-1SU;BYMONTH=3
END:DAYLIGHT
BEGIN:STANDARD
TZOFFSETFROM:+0200
TZOFFSETTO:+0100
TZNAME:CET
DTSTART:19701025T030000
RRULE:FREQ=YEARLY;INTERVAL=1;BYDAY=-1SU;BYMONTH=10
END:STANDARD
END:VTIMEZONE
BEGIN:VEVENT
DTSTAMP:20260420T111856
DTSTART;TZID=Europe/Berlin:20260316T090000
DTEND;TZID=Europe/Berlin:20260316T130000
UID:2616548K3-20260316T090000@VHSBIELEFELD
SUMMARY:Deutsch Anfängerstufe 4 / Aufbaukurs 1 (2616548K3) 
LOCATION:Sennestadthaus; Raum 102, Lindemannplatz 3, 33689 Bielefeld
END:VEVENT
BEGIN:VEVENT
DTSTAMP:20260420T111856
DTSTART;TZID=Europe/Berlin:20260317T090000
DTEND;TZID=Europe/Berlin:20260317T130000
UID:2616548K3-20260317T090000@VHSBIELEFELD
SUMMARY:Deutsch Anfängerstufe 4 / Aufbaukurs 1 (2616548K3) 
LOCATION:Sennestadthaus; Raum 102, Lindemannplatz 3, 33689 Bielefeld
END:VEVENT
BEGIN:VEVENT
DTSTAMP:20260420T111856
DTSTART;TZID=Europe/Berlin:20260318T090000
DTEND;TZID=Europe/Berlin:20260318T130000
UID:2616548K3-20260318T090000@VHSBIELEFELD
SUMMARY:Deutsch Anfängerstufe 4 / Aufbaukurs 1 (2616548K3) 
LOCATION:Sennestadthaus; Raum 102, Lindemannplatz 3, 33689 Bielefeld
END:VEVENT
BEGIN:VEVENT
DTSTAMP:20260420T111856
DTSTART;TZID=Europe/Berlin:20260319T090000
DTEND;TZID=Europe/Berlin:20260319T130000
UID:2616548K3-20260319T090000@VHSBIELEFELD
SUMMARY:Deutsch Anfängerstufe 4 / Aufbaukurs 1 (2616548K3) 
LOCATION:Sennestadthaus; Raum 102, Lindemannplatz 3, 33689 Bielefeld
END:VEVENT
BEGIN:VEVENT
DTSTAMP:20260420T111856
DTSTART;TZID=Europe/Berlin:20260323T090000
DTEND;TZID=Europe/Berlin:20260323T130000
UID:2616548K3-20260323T090000@VHSBIELEFELD
SUMMARY:Deutsch Anfängerstufe 4 / Aufbaukurs 1 (2616548K3) 
LOCATION:Sennestadthaus; Raum 102, Lindemannplatz 3, 33689 Bielefeld
END:VEVENT
BEGIN:VEVENT
DTSTAMP:20260420T111856
DTSTART;TZID=Europe/Berlin:20260324T090000
DTEND;TZID=Europe/Berlin:20260324T130000
UID:2616548K3-20260324T090000@VHSBIELEFELD
SUMMARY:Deutsch Anfängerstufe 4 / Aufbaukurs 1 (2616548K3) 
LOCATION:Sennestadthaus; Raum 102, Lindemannplatz 3, 33689 Bielefeld
END:VEVENT
BEGIN:VEVENT
DTSTAMP:20260420T111856
DTSTART;TZID=Europe/Berlin:20260325T090000
DTEND;TZID=Europe/Berlin:20260325T130000
UID:2616548K3-20260325T090000@VHSBIELEFELD
SUMMARY:Deutsch Anfängerstufe 4 / Aufbaukurs 1 (2616548K3) 
LOCATION:Sennestadthaus; Raum 102, Lindemannplatz 3, 33689 Bielefeld
END:VEVENT
BEGIN:VEVENT
DTSTAMP:20260420T111856
DTSTART;TZID=Europe/Berlin:20260326T090000
DTEND;TZID=Europe/Berlin:20260326T130000
UID:2616548K3-20260326T090000@VHSBIELEFELD
SUMMARY:Deutsch Anfängerstufe 4 / Aufbaukurs 1 (2616548K3) 
LOCATION:Sennestadthaus; Raum 102, Lindemannplatz 3, 33689 Bielefeld
END:VEVENT
BEGIN:VEVENT
DTSTAMP:20260420T111856
DTSTART;TZID=Europe/Berlin:20260413T090000
DTEND;TZID=Europe/Berlin:20260413T130000
UID:2616548K3-20260413T090000@VHSBIELEFELD
SUMMARY:Deutsch Anfängerstufe 4 / Aufbaukurs 1 (2616548K3) 
LOCATION:Sennestadthaus; Raum 102, Lindemannplatz 3, 33689 Bielefeld
END:VEVENT
BEGIN:VEVENT
DTSTAMP:20260420T111856
DTSTART;TZID=Europe/Berlin:20260414T090000
DTEND;TZID=Europe/Berlin:20260414T130000
UID:2616548K3-20260414T090000@VHSBIELEFELD
SUMMARY:Deutsch Anfängerstufe 4 / Aufbaukurs 1 (2616548K3) 
LOCATION:Sennestadthaus; Raum 102, Lindemannplatz 3, 33689 Bielefeld
END:VEVENT
BEGIN:VEVENT
DTSTAMP:20260420T111856
DTSTART;TZID=Europe/Berlin:20260416T090000
DTEND;TZID=Europe/Berlin:20260416T130000
UID:2616548K3-20260416T090000@VHSBIELEFELD
SUMMARY:Deutsch Anfängerstufe 4 / Aufbaukurs 1 (2616548K3) 
LOCATION:Sennestadthaus; Raum 102, Lindemannplatz 3, 33689 Bielefeld
END:VEVENT
BEGIN:VEVENT
DTSTAMP:20260420T111856
DTSTART;TZID=Europe/Berlin:20260420T090000
DTEND;TZID=Europe/Berlin:20260420T130000
UID:2616548K3-20260420T090000@VHSBIELEFELD
SUMMARY:Deutsch Anfängerstufe 4 / Aufbaukurs 1 (2616548K3) 
LOCATION:Sennestadthaus; Raum 102, Lindemannplatz 3, 33689 Bielefeld
END:VEVENT
BEGIN:VEVENT
DTSTAMP:20260420T111856
DTSTART;TZID=Europe/Berlin:20260421T090000
DTEND;TZID=Europe/Berlin:20260421T130000
UID:2616548K3-20260421T090000@VHSBIELEFELD
SUMMARY:Deutsch Anfängerstufe 4 / Aufbaukurs 1 (2616548K3) 
LOCATION:Sennestadthaus; Raum 102, Lindemannplatz 3, 33689 Bielefeld
END:VEVENT
BEGIN:VEVENT
DTSTAMP:20260420T111856
DTSTART;TZID=Europe/Berlin:20260422T090000
DTEND;TZID=Europe/Berlin:20260422T130000
UID:2616548K3-20260422T090000@VHSBIELEFELD
SUMMARY:Deutsch Anfängerstufe 4 / Aufbaukurs 1 (2616548K3) 
LOCATION:Sennestadthaus; Raum 102, Lindemannplatz 3, 33689 Bielefeld
END:VEVENT
BEGIN:VEVENT
DTSTAMP:20260420T111856
DTSTART;TZID=Europe/Berlin:20260423T090000
DTEND;TZID=Europe/Berlin:20260423T130000
UID:2616548K3-20260423T090000@VHSBIELEFELD
SUMMARY:Deutsch Anfängerstufe 4 / Aufbaukurs 1 (2616548K3) 
LOCATION:Sennestadthaus; Raum 102, Lindemannplatz 3, 33689 Bielefeld
END:VEVENT
BEGIN:VEVENT
DTSTAMP:20260420T111856
DTSTART;TZID=Europe/Berlin:20260427T090000
DTEND;TZID=Europe/Berlin:20260427T130000
UID:2616548K3-20260427T090000@VHSBIELEFELD
SUMMARY:Deutsch Anfängerstufe 4 / Aufbaukurs 1 (2616548K3) 
LOCATION:Sennestadthaus; Raum 102, Lindemannplatz 3, 33689 Bielefeld
END:VEVENT
BEGIN:VEVENT
DTSTAMP:20260420T111856
DTSTART;TZID=Europe/Berlin:20260428T090000
DTEND;TZID=Europe/Berlin:20260428T130000
UID:2616548K3-20260428T090000@VHSBIELEFELD
SUMMARY:Deutsch Anfängerstufe 4 / Aufbaukurs 1 (2616548K3) 
LOCATION:Sennestadthaus; Raum 102, Lindemannplatz 3, 33689 Bielefeld
END:VEVENT
BEGIN:VEVENT
DTSTAMP:20260420T111856
DTSTART;TZID=Europe/Berlin:20260430T090000
DTEND;TZID=Europe/Berlin:20260430T130000
UID:2616548K3-20260430T090000@VHSBIELEFELD
SUMMARY:Deutsch Anfängerstufe 4 / Aufbaukurs 1 (2616548K3) 
LOCATION:Sennestadthaus; Raum 102, Lindemannplatz 3, 33689 Bielefeld
END:VEVENT
BEGIN:VEVENT
DTSTAMP:20260420T111856
DTSTART;TZID=Europe/Berlin:20260504T090000
DTEND;TZID=Europe/Berlin:20260504T130000
UID:2616548K3-20260504T090000@VHSBIELEFELD
SUMMARY:Deutsch Anfängerstufe 4 / Aufbaukurs 1 (2616548K3) 
LOCATION:Sennestadthaus; Raum 102, Lindemannplatz 3, 33689 Bielefeld
END:VEVENT
BEGIN:VEVENT
DTSTAMP:20260420T111856
DTSTART;TZID=Europe/Berlin:20260505T090000
DTEND;TZID=Europe/Berlin:20260505T130000
UID:2616548K3-20260505T090000@VHSBIELEFELD
SUMMARY:Deutsch Anfängerstufe 4 / Aufbaukurs 1 (2616548K3) 
LOCATION:Sennestadthaus; Raum 102, Lindemannplatz 3, 33689 Bielefeld
END:VEVENT
END:VCALENDAR